BEGIN:VCALENDAR
VERSION:2.0
PRODID:-//eventon.com NONSGML v1.0//EN
BEGIN:VEVENT
UID:69e88b4e4e427
DTSTAMP:20260422T084814
DTSTART:20260411T200000Z
DTEND:20260412T060000Z
TZID:Pacific/Midway
LOCATION:Av. Leonardo Torriani\,  7 (Frente al gimnasio Aguere) Av. Leonardo Torriani\,  7
SUMMARY:Explorando el Roque del Conde desde Imoque
DESCRIPTION: Se trata de una excursión espectacular para coronar el Roque del Conde también conocido como Ichasagua\,  en pleno Macizo de Arona-Adeje. Las vistas desde lo alto son espectaculares\,  pudiéndose disfrutar de panorámicas hacia el Teide incluso. NO TE LA PUEDES PERDER TODAS NUESTRAS RUTAS SE REALIZAN CON GUAGUA EXCLUSIVA PARA[..]\nhttps://www.caminantesdeaguere.com/events/ruta-roque-del-conde/
URL:https://www.caminantesdeaguere.com/events/ruta-roque-del-conde/
END:VEVENT
END:VCALENDAR