BEGIN:VCALENDAR
VERSION:2.0
PRODID:-//eventon.com NONSGML v1.0//EN
BEGIN:VEVENT
UID:69eadc508f56c
DTSTAMP:20260424T025824
DTSTART:20250323T184500Z
DTEND:20250324T070000Z
TZID:Pacific/Midway
LOCATION:Gimnasio Aguere.Calvo Sotelo.6 Gimnasio Aguere.Calvo Sotelo.6
SUMMARY:RUTA POR LAS VERDES PRADERA DE NISDAFE "EL HIERRO"
DESCRIPTION: EL DOMINGO 23 DE MARZO NOS VAMOS A LA ISLA DE EL HIERRO\,  A DISFRUTAR DE UNO DE LOS PAISAJES MÁS BONITOS EN PRIMAVERA. LA MESETA DE NISDAFE\, Se trata de una ruta por un lugar idílico de verdes praderas con vacas\,  caballos\,  etc. Nuestro camino transcurre entre los Miradores de[..]\nhttps://www.caminantesdeaguere.com/events/ruta-por-las-verdes-pradera-de-nisdafe/
URL:https://www.caminantesdeaguere.com/events/ruta-por-las-verdes-pradera-de-nisdafe/
END:VEVENT
END:VCALENDAR