BEGIN:VCALENDAR
VERSION:2.0
PRODID:-//eventon.com NONSGML v1.0//EN
BEGIN:VEVENT
UID:69ed1fcccc904
DTSTAMP:20260425T201052
DTSTART:20221105T090000Z
DTEND:20221105T183000Z
TZID:UTC
LOCATION:Av. Leonardo Torriani\,  7 (Frente al gimnasio Aguere) Av. Leonardo Torriani\,  7
SUMMARY:CUEVA DEL VIENTO + SENDERO
DESCRIPTION: Ven con nosotros a descubrir y disfrutar del tubo volcánico más largo de Europa junto a un espectacular sendero (Ruta de las 6 Eras) que realizaremos (antes de la visita a la &#8220;Cueva del Viento&#8221;.) desde San José de los Llanos hasta el Tanque\,  pasando por preciosas coladas\,  vistas hacia[..]\nhttps://www.caminantesdeaguere.com/events/cueva-del-viento-sendero/
URL:https://www.caminantesdeaguere.com/events/cueva-del-viento-sendero/
END:VEVENT
END:VCALENDAR