BEGIN:VCALENDAR
VERSION:2.0
PRODID:-//eventon.com NONSGML v1.0//EN
BEGIN:VEVENT
UID:69ed83f8b309f
DTSTAMP:20260426T031816
DTSTART:20210507
DTEND:20210509
TZID:UTC
LOCATION:Av. Leonardo Torriani\,  7 (Frente al gimnasio Aguere) Av. Leonardo Torriani\,  7
SUMMARY:DESCUBRIENDO JANDÍA "PUENTE DE SEMANA SANTA"
DESCRIPTION: Te esperan 3 días aprovechados al máximo ( Del jueves 1 de Abril a las 7.00 horas hasta el sábado 3 de Abril a las 21\, 00 horas )\,  descubriendo la mágica naturaleza de la península de Jandía. Recorreremos paisajes de ensueño y localizaciones de películas como Star Wars\,  Conocerás las[..]\nhttps://www.caminantesdeaguere.com/events/descubriendo-jandia-puente-de-semana-santa/
URL:https://www.caminantesdeaguere.com/events/descubriendo-jandia-puente-de-semana-santa/
END:VEVENT
END:VCALENDAR